BEGIN:VCALENDAR
VERSION:2.0
PRODID:-//pretix//Access//
BEGIN:VTIMEZONE
TZID:Europe/Berlin
BEGIN:STANDARD
DTSTART:20001029T040000
RRULE:FREQ=YEARLY;BYDAY=-1SU;BYMONTH=10
TZNAME:CET
TZOFFSETFROM:+0200
TZOFFSETTO:+0100
END:STANDARD
BEGIN:DAYLIGHT
DTSTART:20000326T030000
RRULE:FREQ=YEARLY;BYDAY=-1SU;BYMONTH=3
TZNAME:CEST
TZOFFSETFROM:+0100
TZOFFSETTO:+0200
END:DAYLIGHT
END:VTIMEZONE
BEGIN:VEVENT
UID:pretix-karlstadt-musikin2024-2-0@www.access-tickets.de
DTSTART;TZID=Europe/Berlin:20240706T200000
DTEND;TZID=Europe/Berlin:20240706T220000
DESCRIPTION:Tickets: https://www.access-tickets.de/karlstadt/musikin2024-2/
 \nEinlass: 06.07.2024 19:30\nVeranstalter: Stadt Karlstadt
DTSTAMP:20260423T091335Z
LOCATION:ehemaliges Pumpenhaus in Rohrbach\, Kapellenweg\, 97753 Karlstadt-
 Rohrbach
SUMMARY:Musik in Historischen Häusern und Höfen - Eddi Hüneke
END:VEVENT
END:VCALENDAR
