BEGIN:VCALENDAR
VERSION:2.0
PRODID:-//pretix//Access//
BEGIN:VTIMEZONE
TZID:Europe/Berlin
BEGIN:STANDARD
DTSTART:20001029T040000
RRULE:FREQ=YEARLY;BYDAY=-1SU;BYMONTH=10
TZNAME:CET
TZOFFSETFROM:+0200
TZOFFSETTO:+0100
END:STANDARD
BEGIN:DAYLIGHT
DTSTART:20000326T030000
RRULE:FREQ=YEARLY;BYDAY=-1SU;BYMONTH=3
TZNAME:CEST
TZOFFSETFROM:+0100
TZOFFSETTO:+0200
END:DAYLIGHT
END:VTIMEZONE
BEGIN:VEVENT
UID:pretix-fleckenaerzen-kuenstlerstamm-0@www.access-tickets.de
DTSTART;TZID=Europe/Berlin:20230805T140000
DTEND;TZID=Europe/Berlin:20230827T180000
DESCRIPTION:Tickets: https://www.access-tickets.de/fleckenaerzen/kuenstlers
 tamm/\nVeranstalter: Flecken Aerzen
DTSTAMP:20260424T091023Z
LOCATION:Domänenburg\, Burgstr. 6\, 31855 Aerzen
SUMMARY:Ausstellung "Hamelner Künstlerstammtisch" - Eintritt frei!
END:VEVENT
END:VCALENDAR
