BEGIN:VCALENDAR
VERSION:2.0
PRODID:-//pretix//Access//
BEGIN:VTIMEZONE
TZID:Europe/Berlin
BEGIN:STANDARD
DTSTART:20001029T040000
RRULE:FREQ=YEARLY;BYDAY=-1SU;BYMONTH=10
TZNAME:CET
TZOFFSETFROM:+0200
TZOFFSETTO:+0100
END:STANDARD
BEGIN:DAYLIGHT
DTSTART:20000326T030000
RRULE:FREQ=YEARLY;BYDAY=-1SU;BYMONTH=3
TZNAME:CEST
TZOFFSETFROM:+0100
TZOFFSETTO:+0200
END:DAYLIGHT
END:VTIMEZONE
BEGIN:VEVENT
UID:pretix-fleckenaerzen-gieseking.2024-2-0@www.access-tickets.de
DTSTART;TZID=Europe/Berlin:20240219T190000
DTEND;TZID=Europe/Berlin:20240219T200000
DESCRIPTION:Tickets: https://www.access-tickets.de/fleckenaerzen/gieseking.
 2024-2/\nEinlass: 19.02.2024 18:30\nVeranstalter: Flecken Aerzen
DTSTAMP:20260424T090951Z
LOCATION:Domänenburg\, Burgstraße 6\, 31855 Aerzen
SUMMARY:Ab dafür! Der satirische Jahresrückblick - Kabarett von und mit B
 ernd Gieseking
END:VEVENT
END:VCALENDAR
