BEGIN:VCALENDAR
VERSION:2.0
PRODID:-//pretix//Access//
BEGIN:VTIMEZONE
TZID:Europe/Berlin
BEGIN:STANDARD
DTSTART:20001029T040000
RRULE:FREQ=YEARLY;BYDAY=-1SU;BYMONTH=10
TZNAME:CET
TZOFFSETFROM:+0200
TZOFFSETTO:+0100
END:STANDARD
BEGIN:DAYLIGHT
DTSTART:20000326T030000
RRULE:FREQ=YEARLY;BYDAY=-1SU;BYMONTH=3
TZNAME:CEST
TZOFFSETFROM:+0100
TZOFFSETTO:+0200
END:DAYLIGHT
END:VTIMEZONE
BEGIN:VEVENT
UID:pretix-fleckenaerzen-felice-cortes-0@www.access-tickets.de
DTSTART;TZID=Europe/Berlin:20250725T193000
DTEND;TZID=Europe/Berlin:20250725T213000
DESCRIPTION:Tickets: https://www.access-tickets.de/fleckenaerzen/felice-cor
 tes/\nEinlass: 25.07.2025 19:00\nVeranstalter: Flecken Aerzen
DTSTAMP:20260420T071643Z
LOCATION:Domänenburg\, Burgstraße 6\, 31855 Aerzen
SUMMARY:Felice & Cortes "Selling Stories"
END:VEVENT
END:VCALENDAR
