BEGIN:VCALENDAR
VERSION:2.0
PRODID:-//pretix//Access//
BEGIN:VTIMEZONE
TZID:Europe/Berlin
BEGIN:STANDARD
DTSTART:20001029T040000
RRULE:FREQ=YEARLY;BYDAY=-1SU;BYMONTH=10
TZNAME:CET
TZOFFSETFROM:+0200
TZOFFSETTO:+0100
END:STANDARD
BEGIN:DAYLIGHT
DTSTART:20000326T030000
RRULE:FREQ=YEARLY;BYDAY=-1SU;BYMONTH=3
TZNAME:CEST
TZOFFSETFROM:+0100
TZOFFSETTO:+0200
END:DAYLIGHT
END:VTIMEZONE
BEGIN:VEVENT
UID:pretix-fleckenaerzen-Tanz-der-Saiten-0@www.access-tickets.de
DTSTART;TZID=Europe/Berlin:20260612T193000
DTEND;TZID=Europe/Berlin:20260612T210000
DESCRIPTION:Tickets: https://www.access-tickets.de/fleckenaerzen/Tanz-der-S
 aiten/\nEinlass: 12.06.2026 19:00\nVeranstalter: Flecken Aerzen
DTSTAMP:20260420T052951Z
LOCATION:Domänenburg\, Burgstraße 6\, 31855 Aerzen
SUMMARY:TANZ DER SAITEN - Eileen Baum - südamerikanisch\, spanisch\, klass
 isch
END:VEVENT
END:VCALENDAR
