BEGIN:VCALENDAR
VERSION:2.0
PRODID:-//pretix//Access//
BEGIN:VTIMEZONE
TZID:Europe/Berlin
BEGIN:STANDARD
DTSTART:20001029T040000
RRULE:FREQ=YEARLY;BYDAY=-1SU;BYMONTH=10
TZNAME:CET
TZOFFSETFROM:+0200
TZOFFSETTO:+0100
END:STANDARD
BEGIN:DAYLIGHT
DTSTART:20000326T030000
RRULE:FREQ=YEARLY;BYDAY=-1SU;BYMONTH=3
TZNAME:CEST
TZOFFSETFROM:+0100
TZOFFSETTO:+0200
END:DAYLIGHT
END:VTIMEZONE
BEGIN:VEVENT
UID:pretix-akku2023-eselalf-0@www.access-tickets.de
DTSTART;TZID=Europe/Berlin:20261120T150000
DTEND;TZID=Europe/Berlin:20261120T160000
DESCRIPTION:Tickets: https://www.access-tickets.de/akku2023/eselalf/\nVeran
 stalter: Rathaus Abstatt
DTSTAMP:20260423T084158Z
SUMMARY:Kindertheater Theater Heidrun Warmuth "Armer Esel Alf"
END:VEVENT
END:VCALENDAR
