BEGIN:VCALENDAR
VERSION:2.0
PRODID:-//pretix//Access//
BEGIN:VTIMEZONE
TZID:Europe/Berlin
BEGIN:STANDARD
DTSTART:20001029T040000
RRULE:FREQ=YEARLY;BYDAY=-1SU;BYMONTH=10
TZNAME:CET
TZOFFSETFROM:+0200
TZOFFSETTO:+0100
END:STANDARD
BEGIN:DAYLIGHT
DTSTART:20000326T030000
RRULE:FREQ=YEARLY;BYDAY=-1SU;BYMONTH=3
TZNAME:CEST
TZOFFSETFROM:+0100
TZOFFSETTO:+0200
END:DAYLIGHT
END:VTIMEZONE
BEGIN:VEVENT
UID:pretix-SHV-vs.FuechseBerlin-0@www.access-tickets.de
DTSTART;TZID=Europe/Berlin:20231202T180000
DTEND;TZID=Europe/Berlin:20231202T193000
DESCRIPTION:Tickets: https://www.access-tickets.de/SHV/vs.FuechseBerlin/\nE
 inlass: 02.12.2023 17:00\nVeranstalter: Stralsunder HV Handball GmbH
DTSTAMP:20260424T153626Z
LOCATION:Vogelsanghalle\, Grünhufer Bogen 18-20\, 18445 Kramerhof
SUMMARY:Stralsunder HV vs. FuechseBerlin
END:VEVENT
END:VCALENDAR
